BEGIN:VCALENDAR
VERSION:2.0
PRODID:-//tecnico/math/seminar/geolis/NONSGML v1.0//EN
X-WR-CALNAME:Técnico Mathematics Seminars - geolis
BEGIN:VEVENT
UID:7791@math.tecnico.ulisboa.pt
DTSTAMP:20260421T134610Z
DTSTART:20260622T140000Z
DTEND:20260622T150000Z
SUMMARY:Yakov Eliashberg - 
URL;VALUE=URI:https://geolis.math.tecnico.ulisboa.pt/seminars
END:VEVENT
END:VCALENDAR